BEGIN:VCALENDAR
VERSION:2.0
PRODID:-//Doppelpunkt//Events//DE
CALSCALE:GREGORIAN
METHOD:PUBLISH
BEGIN:VEVENT
UID:event-2319@www.doppelpunkt.de
DTSTAMP:20260425T122931
DTSTART:20251220T190000
DTEND:20251220T190000
SUMMARY:Django Asül: "Rückspiegel 2025"\, Kabarett
LOCATION:Fortuna Kulturfabrik Höchstadt/A.\, Bahnhofstraße 9\, 91315 Höchstadt/Aisch
STATUS:CONFIRMED
END:VEVENT
END:VCALENDAR