BEGIN:VCALENDAR
VERSION:2.0
PRODID:-//Doppelpunkt//Events//DE
CALSCALE:GREGORIAN
METHOD:PUBLISH
BEGIN:VEVENT
UID:event-2316@www.doppelpunkt.de
DTSTAMP:20260421T105811
DTSTART:20251217T183000
DTEND:20251217T183000
SUMMARY:Galerie: Chelsea Grin (Deathcore)\, Support: Signs of the Swarm\, Mugshot\, Crown Magnetar
LOCATION:Z-Bau\, Frankenstr. 200\, 90461 Nürnberg
STATUS:CONFIRMED
END:VEVENT
END:VCALENDAR