BEGIN:VCALENDAR
VERSION:2.0
PRODID:-//Doppelpunkt//Events//DE
CALSCALE:GREGORIAN
METHOD:PUBLISH
BEGIN:VEVENT
UID:event-2315@www.doppelpunkt.de
DTSTAMP:20260425T123001
DTSTART:20251214T200000
DTEND:20251214T200000
SUMMARY:Ross Antony & Paul Reeves: "Unser lustiges Weihnachten"\, Comedy
LOCATION:Löwensaal\, Schmausenbuckstr. 166\, 90480 Nürnberg
STATUS:CONFIRMED
END:VEVENT
END:VCALENDAR