BEGIN:VCALENDAR
VERSION:2.0
PRODID:-//Doppelpunkt//Events//DE
CALSCALE:GREGORIAN
METHOD:PUBLISH
BEGIN:VEVENT
UID:event-2312@www.doppelpunkt.de
DTSTAMP:20260421T165035
DTSTART:20251210T200000
DTEND:20251210T200000
SUMMARY:Steve 'n' Seagulls (Bluegrass/Folk/Rock/Metal)
LOCATION:Hirsch\, Vogelweiher Str. 66\, 90441 Nürnberg
STATUS:CONFIRMED
END:VEVENT
END:VCALENDAR