BEGIN:VCALENDAR
VERSION:2.0
PRODID:-//Doppelpunkt//Events//DE
CALSCALE:GREGORIAN
METHOD:PUBLISH
BEGIN:VEVENT
UID:event-2308@www.doppelpunkt.de
DTSTAMP:20260421T105424
DTSTART:20260109T193000
DTEND:20260109T193000
SUMMARY:"Disney in Concert: The Sound of Magic"\, Film-Ausschnitte mit Live-Musik mit dem Pilsen Philharmonic Orchestra
LOCATION:Meistersingerhalle\, Münchener Str. 21\, 90478 Nürnberg
STATUS:CONFIRMED
END:VEVENT
END:VCALENDAR