BEGIN:VCALENDAR
VERSION:2.0
PRODID:-//Doppelpunkt//Events//DE
CALSCALE:GREGORIAN
METHOD:PUBLISH
BEGIN:VEVENT
UID:event-2307@www.doppelpunkt.de
DTSTAMP:20260420T234814
DTSTART:20260103T160000
DTEND:20260103T160000
SUMMARY:Quetschendatschi (Klezmer/Folk/Volksmusik)
LOCATION:St. Martha Kirche\, Königstr. 79\, 90402 Nürnberg
STATUS:CONFIRMED
END:VEVENT
END:VCALENDAR