BEGIN:VCALENDAR
VERSION:2.0
PRODID:-//Doppelpunkt//Events//DE
CALSCALE:GREGORIAN
METHOD:PUBLISH
BEGIN:VEVENT
UID:event-2303@www.doppelpunkt.de
DTSTAMP:20260420T182235
DTSTART:20251231T183000
DTEND:20251231T183000
SUMMARY:Matthias Walz: "Der böse Mann am Klavier"\, Kabarett
LOCATION:Meistersingerhalle\, Münchener Str. 21\, 90478 Nürnberg
STATUS:CONFIRMED
END:VEVENT
END:VCALENDAR