BEGIN:VCALENDAR
VERSION:2.0
PRODID:-//Doppelpunkt//Events//DE
CALSCALE:GREGORIAN
METHOD:PUBLISH
BEGIN:VEVENT
UID:event-2296@www.doppelpunkt.de
DTSTAMP:20260425T122825
DTSTART:20251212T193000
DTEND:20251212T193000
SUMMARY:Miroslav Nemec\, Udo Wachtveitl u. Sagas Streichquintett : "Eine Weihnachtsgeschichte"\, Bühnenmärchen mit Musik
LOCATION:Meistersingerhalle\, Münchener Str. 21\, 90478 Nürnberg
STATUS:CONFIRMED
END:VEVENT
END:VCALENDAR