BEGIN:VCALENDAR
VERSION:2.0
PRODID:-//Doppelpunkt//Events//DE
CALSCALE:GREGORIAN
METHOD:PUBLISH
BEGIN:VEVENT
UID:event-2291@www.doppelpunkt.de
DTSTAMP:20260425T135935
DTSTART:20260125T190000
DTEND:20260125T190000
SUMMARY:Michelle (Schlager)
LOCATION:Meistersingerhalle\, Münchener Str. 21\, 90478 Nürnberg
STATUS:CONFIRMED
END:VEVENT
END:VCALENDAR