BEGIN:VCALENDAR
VERSION:2.0
PRODID:-//Doppelpunkt//Events//DE
CALSCALE:GREGORIAN
METHOD:PUBLISH
BEGIN:VEVENT
UID:event-2290@www.doppelpunkt.de
DTSTAMP:20260425T141830
DTSTART:20260122T200000
DTEND:20260122T200000
SUMMARY:Saal: Lisa Feller: "Schön für Dich!"\, Comedy
LOCATION:Z-Bau\, Frankenstr. 200\, 90461 Nürnberg
STATUS:CONFIRMED
END:VEVENT
END:VCALENDAR