BEGIN:VCALENDAR
VERSION:2.0
PRODID:-//Doppelpunkt//Events//DE
CALSCALE:GREGORIAN
METHOD:PUBLISH
BEGIN:VEVENT
UID:event-2259@www.doppelpunkt.de
DTSTAMP:20260425T142335
DTSTART:20260122T160000
DTEND:20260122T160000
SUMMARY:Semester-Abschlussfest der Straßenkreuzer Uni
LOCATION:Die Heilsarmee\, Gostenhofer Hauptstr. 47-49\, 90443 Nürnberg
STATUS:CONFIRMED
END:VEVENT
END:VCALENDAR