BEGIN:VCALENDAR
VERSION:2.0
PRODID:-//Doppelpunkt//Events//DE
CALSCALE:GREGORIAN
METHOD:PUBLISH
BEGIN:VEVENT
UID:event-2257@www.doppelpunkt.de
DTSTAMP:20260425T142146
DTSTART:20260114T150000
DTEND:20260114T150000
SUMMARY:Vortrag im Rahmen der Straßenkreuzer-Uni: "Smart unterwegs - Die Mobilität von morgen"
LOCATION:Deutsches Museum Nürnberg - Zukunftsmuseum\, Augustinerhof 4\, 90403 Nürnberg
STATUS:CONFIRMED
END:VEVENT
END:VCALENDAR