BEGIN:VCALENDAR
VERSION:2.0
PRODID:-//Doppelpunkt//Events//DE
CALSCALE:GREGORIAN
METHOD:PUBLISH
BEGIN:VEVENT
UID:event-2250@www.doppelpunkt.de
DTSTAMP:20260425T135934
DTSTART:20260131T180000
DTEND:20260131T180000
SUMMARY:Märchenspaziergang: "Noch vor Vollmond"
LOCATION:Café StrandGut\, Johann-Soergel-Weg 50\, 90489 Nürnberg
STATUS:CONFIRMED
END:VEVENT
END:VCALENDAR