BEGIN:VCALENDAR
VERSION:2.0
PRODID:-//Doppelpunkt//Events//DE
CALSCALE:GREGORIAN
METHOD:PUBLISH
BEGIN:VEVENT
UID:event-2236-3082@www.doppelpunkt.de
DTSTAMP:20260420T155808
DTSTART:20260426T160000
DTEND:20260426T180000
SUMMARY:Professor Bummbastic: "Knallegra"\, interaktive Wissenschaftsshow ab 5 J.
LOCATION:Meistersingerhalle\, Münchener Str. 21\, 90478 Nürnberg
STATUS:CONFIRMED
END:VEVENT
END:VCALENDAR