BEGIN:VCALENDAR
VERSION:2.0
PRODID:-//Doppelpunkt//Events//DE
CALSCALE:GREGORIAN
METHOD:PUBLISH
BEGIN:VEVENT
UID:event-2234@www.doppelpunkt.de
DTSTAMP:20260421T105815
DTSTART:20260201T150000
DTEND:20260201T150000
SUMMARY:Professor Bummbastic: "Knallegra"\, interaktive Wissenschaftsshow ab 5 J.
LOCATION:Kongreßhalle\, Mußstr. 1\, 96047 Bamberg
STATUS:CONFIRMED
END:VEVENT
END:VCALENDAR