BEGIN:VCALENDAR
VERSION:2.0
PRODID:-//Doppelpunkt//Events//DE
CALSCALE:GREGORIAN
METHOD:PUBLISH
BEGIN:VEVENT
UID:event-2233@www.doppelpunkt.de
DTSTAMP:20260425T135612
DTSTART:20260131T160000
DTEND:20260131T160000
SUMMARY:Professor Bummbastic: "Knallegra"\, interaktive Wissenschaftsshow ab 5 J.
LOCATION:Stadthalle Fürth\, Rosenstr. 50\, 90762 Fürth
STATUS:CONFIRMED
END:VEVENT
END:VCALENDAR