BEGIN:VCALENDAR
VERSION:2.0
PRODID:-//Doppelpunkt//Events//DE
CALSCALE:GREGORIAN
METHOD:PUBLISH
BEGIN:VEVENT
UID:event-2229@www.doppelpunkt.de
DTSTAMP:20260425T135436
DTSTART:20260128T190000
DTEND:20260128T190000
SUMMARY:Öffentliche Probe: "New Ballets russes"\, Choreographien von Richard Siegal (Premiere am 21.2.)
LOCATION:Opernhaus\, Richard-Wagner-Platz 2-10\, 90443 Nürnberg
STATUS:CONFIRMED
END:VEVENT
END:VCALENDAR