BEGIN:VCALENDAR
VERSION:2.0
PRODID:-//Doppelpunkt//Events//DE
CALSCALE:GREGORIAN
METHOD:PUBLISH
BEGIN:VEVENT
UID:event-2227@www.doppelpunkt.de
DTSTAMP:20260425T135933
DTSTART:20260119T181500
DTEND:20260119T181500
SUMMARY:Öffentliche Probe: "Turandot"\, Oper von Giacomo Puccini (Premiere am 24.1.)
LOCATION:Opernhaus\, Richard-Wagner-Platz 2-10\, 90443 Nürnberg
STATUS:CONFIRMED
END:VEVENT
END:VCALENDAR