BEGIN:VCALENDAR
VERSION:2.0
PRODID:-//Doppelpunkt//Events//DE
CALSCALE:GREGORIAN
METHOD:PUBLISH
BEGIN:VEVENT
UID:event-2226@www.doppelpunkt.de
DTSTAMP:20260425T135710
DTSTART:20260118T110000
DTEND:20260118T110000
SUMMARY:Kammerkonzert: "Von Wien nach Sevilla: Eine musikalische Reise"
LOCATION:Opernhaus/Gluck-Saal\, Richard-Wagner-Platz 2-10\, 90443 Nürnberg
STATUS:CONFIRMED
END:VEVENT
END:VCALENDAR