BEGIN:VCALENDAR
VERSION:2.0
PRODID:-//Doppelpunkt//Events//DE
CALSCALE:GREGORIAN
METHOD:PUBLISH
BEGIN:VEVENT
UID:event-2222@www.doppelpunkt.de
DTSTAMP:20260420T234903
DTSTART:20260103T193000
DTEND:20260103T193000
SUMMARY:Staatsphilharmonie Nürnberg\, Roland Böer (Ltg): "Wiener Melange"\, Neujahrskonzert
LOCATION:Opernhaus\, Richard-Wagner-Platz 2-10\, 90443 Nürnberg
STATUS:CONFIRMED
END:VEVENT
END:VCALENDAR