BEGIN:VCALENDAR
VERSION:2.0
PRODID:-//Doppelpunkt//Events//DE
CALSCALE:GREGORIAN
METHOD:PUBLISH
BEGIN:VEVENT
UID:event-2206@www.doppelpunkt.de
DTSTAMP:20260421T111600
DTSTART:20251231T224500
DTEND:20251231T224500
SUMMARY:Silvester Party mit Liveband 9to5 und DJane Karo
LOCATION:Opernhaus\, Richard-Wagner-Platz 2-10\, 90443 Nürnberg
STATUS:CONFIRMED
END:VEVENT
END:VCALENDAR