BEGIN:VCALENDAR
VERSION:2.0
PRODID:-//Doppelpunkt//Events//DE
CALSCALE:GREGORIAN
METHOD:PUBLISH
BEGIN:VEVENT
UID:event-2200@www.doppelpunkt.de
DTSTAMP:20260419T184236
DTSTART:20251213T200000
DTEND:20251213T200000
SUMMARY:"The beginning"\, Live-Theater-Science-Fiction-Film
LOCATION:Kammerspiele\, Richard-Wagner-Platz 2-10\, 90443 Nürnberg
STATUS:CONFIRMED
END:VEVENT
END:VCALENDAR