BEGIN:VCALENDAR
VERSION:2.0
PRODID:-//Doppelpunkt//Events//DE
CALSCALE:GREGORIAN
METHOD:PUBLISH
BEGIN:VEVENT
UID:event-2190@www.doppelpunkt.de
DTSTAMP:20260421T111429
DTSTART:20260206T210000
DTEND:20260206T210000
SUMMARY:"Mindjourney"-Party\, Psytrance/Psytechno mit Falicia u. Finja
LOCATION:Parks\, Berliner Platz 9\, 90409 Nürnberg
STATUS:CONFIRMED
END:VEVENT
END:VCALENDAR