BEGIN:VCALENDAR
VERSION:2.0
PRODID:-//Doppelpunkt//Events//DE
CALSCALE:GREGORIAN
METHOD:PUBLISH
BEGIN:VEVENT
UID:event-2173@www.doppelpunkt.de
DTSTAMP:20260421T111559
DTSTART:20251217T150000
DTEND:20251217T150000
SUMMARY:Autorenlesung mit Manfred Seifert: "Bald erstrahlt das Licht heller"
LOCATION:Goldbach Werkstattladen & Café\, Zerzabelshofer Hauptstr. 1\, 90480 Nürnberg
STATUS:CONFIRMED
END:VEVENT
END:VCALENDAR