BEGIN:VCALENDAR
VERSION:2.0
PRODID:-//Doppelpunkt//Events//DE
CALSCALE:GREGORIAN
METHOD:PUBLISH
BEGIN:VEVENT
UID:event-2164@www.doppelpunkt.de
DTSTAMP:20260419T183914
DTSTART:20251206T200000
DTEND:20251206T200000
SUMMARY:Staatstheater Nürnberg: "Smart aber herzlich"\, interaktive Performance
LOCATION:Deutsches Museum Nürnberg - Zukunftsmuseum\, Augustinerhof 4\, 90403 Nürnberg
STATUS:CONFIRMED
END:VEVENT
END:VCALENDAR