BEGIN:VCALENDAR
VERSION:2.0
PRODID:-//Doppelpunkt//Events//DE
CALSCALE:GREGORIAN
METHOD:PUBLISH
BEGIN:VEVENT
UID:event-2162-8002@www.doppelpunkt.de
DTSTAMP:20260421T111929
DTSTART:20260522T220000
DTEND:20260523T000000
SUMMARY:Foyer: „Nachtetage“\, im Rahmen von Yalla Yalla
LOCATION:Schauspielhaus\, Richard-Wagner-Platz 2-10\, 90443 Nürnberg
STATUS:CONFIRMED
END:VEVENT
END:VCALENDAR