BEGIN:VCALENDAR
VERSION:2.0
PRODID:-//Doppelpunkt//Events//DE
CALSCALE:GREGORIAN
METHOD:PUBLISH
BEGIN:VEVENT
UID:event-2160@www.doppelpunkt.de
DTSTAMP:20260421T105731
DTSTART:20251204T153000
DTEND:20251204T153000
SUMMARY:Lichterkinder (Kinderkonzert)
LOCATION:Stadthalle Fürth\, Rosenstr. 50\, 90762 Fürth
STATUS:CONFIRMED
END:VEVENT
END:VCALENDAR