BEGIN:VCALENDAR
VERSION:2.0
PRODID:-//Doppelpunkt//Events//DE
CALSCALE:GREGORIAN
METHOD:PUBLISH
BEGIN:VEVENT
UID:event-2159@www.doppelpunkt.de
DTSTAMP:20260421T111500
DTSTART:20251203T200000
DTEND:20251203T200000
SUMMARY:Chuck Ragan (Folk/Songwriter)
LOCATION:St. Johannis-Kirche\, Hofstallstr. 5\, 97070 Würzburg
STATUS:CONFIRMED
END:VEVENT
END:VCALENDAR