BEGIN:VCALENDAR
VERSION:2.0
PRODID:-//Doppelpunkt//Events//DE
CALSCALE:GREGORIAN
METHOD:PUBLISH
BEGIN:VEVENT
UID:event-2111@www.doppelpunkt.de
DTSTAMP:20260425T141359
DTSTART:20260115T193000
DTEND:20260115T193000
SUMMARY:Junge Meisterpianistinnen der HfM Dresden
LOCATION:Steingraeber Haus\, Steingraeberpassage 1\,  Bayreuth
STATUS:CONFIRMED
END:VEVENT
END:VCALENDAR