BEGIN:VCALENDAR
VERSION:2.0
PRODID:-//Doppelpunkt//Events//DE
CALSCALE:GREGORIAN
METHOD:PUBLISH
BEGIN:VEVENT
UID:event-202@www.doppelpunkt.de
DTSTAMP:20260421T111431
DTSTART:20250928T110000
DTEND:20250928T110000
SUMMARY:Ukraine Open Space - offener Ukraine Treff
LOCATION:Südpunkt\, Pillenreuther Str. 147\, 90459 Nürnberg
STATUS:CONFIRMED
END:VEVENT
END:VCALENDAR