BEGIN:VCALENDAR
VERSION:2.0
PRODID:-//Doppelpunkt//Events//DE
CALSCALE:GREGORIAN
METHOD:PUBLISH
BEGIN:VEVENT
UID:event-1982@www.doppelpunkt.de
DTSTAMP:20260425T141401
DTSTART:20260125T140000
DTEND:20260125T140000
SUMMARY:Märchenspaziergang: "Eiseskälte"
LOCATION:Tiergartenvorplatz\, Am Tiergarten 30\, 90480 Nürnberg
STATUS:CONFIRMED
END:VEVENT
END:VCALENDAR