BEGIN:VCALENDAR
VERSION:2.0
PRODID:-//Doppelpunkt//Events//DE
CALSCALE:GREGORIAN
METHOD:PUBLISH
BEGIN:VEVENT
UID:event-1980@www.doppelpunkt.de
DTSTAMP:20260421T111559
DTSTART:20251224T160000
DTEND:20251224T160000
SUMMARY:Märchenspaziergang mit Lampen u. Laternen (TP: Spielplatz)
LOCATION:Valznerweiher Inselrestaurant\, Valznerweiherstr. 111\, 90480 Nürnberg
STATUS:CONFIRMED
END:VEVENT
END:VCALENDAR