BEGIN:VCALENDAR
VERSION:2.0
PRODID:-//Doppelpunkt//Events//DE
CALSCALE:GREGORIAN
METHOD:PUBLISH
BEGIN:VEVENT
UID:event-1961@www.doppelpunkt.de
DTSTAMP:20260421T111545
DTSTART:20251123T103000
DTEND:20251123T103000
SUMMARY:Mitmachaktionen in den Ausstellungen z.B. "Kakao & Schokolade"
LOCATION:Kindermuseum\, im Kachelbau\;  Michael-Ende-Str. 17\, 90439 Nürnberg
STATUS:CONFIRMED
END:VEVENT
END:VCALENDAR