BEGIN:VCALENDAR
VERSION:2.0
PRODID:-//Doppelpunkt//Events//DE
CALSCALE:GREGORIAN
METHOD:PUBLISH
BEGIN:VEVENT
UID:event-1868@www.doppelpunkt.de
DTSTAMP:20260421T105541
DTSTART:20260207T150000
DTEND:20260207T150000
SUMMARY:"Die große Wolf-Show"\, ab 4 J.
LOCATION:Theater Rootslöffel\, Troststr. 6\, 90429 Nürnberg
STATUS:CONFIRMED
END:VEVENT
END:VCALENDAR