BEGIN:VCALENDAR
VERSION:2.0
PRODID:-//Doppelpunkt//Events//DE
CALSCALE:GREGORIAN
METHOD:PUBLISH
BEGIN:VEVENT
UID:event-1867@www.doppelpunkt.de
DTSTAMP:20260425T135637
DTSTART:20260110T150000
DTEND:20260110T150000
SUMMARY:"Sternenhimmel"\, Weltraumgeschichte mit Musik\, ab 4 J.
LOCATION:Theater Rootslöffel\, Troststr. 6\, 90429 Nürnberg
STATUS:CONFIRMED
END:VEVENT
END:VCALENDAR