BEGIN:VCALENDAR
VERSION:2.0
PRODID:-//Doppelpunkt//Events//DE
CALSCALE:GREGORIAN
METHOD:PUBLISH
BEGIN:VEVENT
UID:event-1861@www.doppelpunkt.de
DTSTAMP:20260421T105734
DTSTART:20260125T140000
DTEND:20260125T140000
SUMMARY:Krimiführung mit Josef Rauch zum Mitraten: "Tatort Stadtmuseum"
LOCATION:Stadtmuseum Fürth\, Ottostr. 2\, 90762 Fürth
STATUS:CONFIRMED
END:VEVENT
END:VCALENDAR