BEGIN:VCALENDAR
VERSION:2.0
PRODID:-//Doppelpunkt//Events//DE
CALSCALE:GREGORIAN
METHOD:PUBLISH
BEGIN:VEVENT
UID:event-1851@www.doppelpunkt.de
DTSTAMP:20260421T145957
DTSTART:20251209T140000
DTEND:20251209T140000
SUMMARY:Literatur-Gespräch mit Eva Homrighausen  u. Dejun Liu
LOCATION:Café Marie 15\, Marienstr. 15\, 90402 Nürnberg
STATUS:CONFIRMED
END:VEVENT
END:VCALENDAR