BEGIN:VCALENDAR
VERSION:2.0
PRODID:-//Doppelpunkt//Events//DE
CALSCALE:GREGORIAN
METHOD:PUBLISH
BEGIN:VEVENT
UID:event-1837@www.doppelpunkt.de
DTSTAMP:20260421T111559
DTSTART:20251130T140000
DTEND:20251130T140000
SUMMARY:Adventsnachmittag mit Märchen\, Führung u. Lebkuchen
LOCATION:Museum 22 20 18\, Kühnertsgasse 22\, 90402 Nürnberg
STATUS:CONFIRMED
END:VEVENT
END:VCALENDAR