BEGIN:VCALENDAR
VERSION:2.0
PRODID:-//Doppelpunkt//Events//DE
CALSCALE:GREGORIAN
METHOD:PUBLISH
BEGIN:VEVENT
UID:event-1798@www.doppelpunkt.de
DTSTAMP:20260425T142147
DTSTART:20260124T200000
DTEND:20260124T200000
SUMMARY:"Oldie Disco" mit DJ Crassus
LOCATION:Orpheum\, Johannisstr. 32 a\, 90419 Nürnberg
STATUS:CONFIRMED
END:VEVENT
END:VCALENDAR