BEGIN:VCALENDAR
VERSION:2.0
PRODID:-//Doppelpunkt//Events//DE
CALSCALE:GREGORIAN
METHOD:PUBLISH
BEGIN:VEVENT
UID:event-1714-7964@www.doppelpunkt.de
DTSTAMP:20260421T163803
DTSTART:20260516T193000
DTEND:20260516T213000
SUMMARY:„Bunbury – Feeling Ernst“\, von Oscar Wilde
LOCATION:Schauspielhaus\, Richard-Wagner-Platz 2-10\, 90443 Nürnberg
STATUS:CONFIRMED
END:VEVENT
END:VCALENDAR