BEGIN:VCALENDAR
VERSION:2.0
PRODID:-//Doppelpunkt//Events//DE
CALSCALE:GREGORIAN
METHOD:PUBLISH
BEGIN:VEVENT
UID:event-1695@www.doppelpunkt.de
DTSTAMP:20260421T105857
DTSTART:20251024T220000
DTEND:20251024T220000
SUMMARY:Nacht-Etage: Roxy's Liebestankstelle von und mit Roxy Rued
LOCATION:Schauspielhaus/3. Etage\, Richard-Wagner-Platz 2-10\, 90443 Nürnberg
STATUS:CONFIRMED
END:VEVENT
END:VCALENDAR