BEGIN:VCALENDAR
VERSION:2.0
PRODID:-//Doppelpunkt//Events//DE
CALSCALE:GREGORIAN
METHOD:PUBLISH
BEGIN:VEVENT
UID:event-1683-8016@www.doppelpunkt.de
DTSTAMP:20260421T110134
DTSTART:20260510T130000
DTEND:20260510T150000
SUMMARY:Führung unters Dach des Opernhauses
LOCATION:Opernhaus\, Richard-Wagner-Platz 2-10\, 90443 Nürnberg
STATUS:CONFIRMED
END:VEVENT
END:VCALENDAR