BEGIN:VCALENDAR
VERSION:2.0
PRODID:-//Doppelpunkt//Events//DE
CALSCALE:GREGORIAN
METHOD:PUBLISH
BEGIN:VEVENT
UID:event-1496@www.doppelpunkt.de
DTSTAMP:20260421T111646
DTSTART:20251017T210000
DTEND:20251017T210000
SUMMARY:"El Milongón"\, Tango-Abend
LOCATION:Südpunkt\, Pillenreuther Str. 147\, 90459 Nürnberg
STATUS:CONFIRMED
END:VEVENT
END:VCALENDAR