BEGIN:VCALENDAR
VERSION:2.0
PRODID:-//Doppelpunkt//Events//DE
CALSCALE:GREGORIAN
METHOD:PUBLISH
BEGIN:VEVENT
UID:event-1441@www.doppelpunkt.de
DTSTAMP:20260421T111432
DTSTART:20260109T183000
DTEND:20260109T183000
SUMMARY:"Viva - Feuerwerk der Turnkunst"\, Turn-Show
LOCATION:PSD Bank Nürnberg Arena\, Kurt-Leucht-Weg 11\, 90471 Nürnberg
STATUS:CONFIRMED
END:VEVENT
END:VCALENDAR