BEGIN:VCALENDAR
VERSION:2.0
PRODID:-//Doppelpunkt//Events//DE
CALSCALE:GREGORIAN
METHOD:PUBLISH
BEGIN:VEVENT
UID:event-142@www.doppelpunkt.de
DTSTAMP:20260421T105506
DTSTART:20250912T220000
DTEND:20250912T220000
SUMMARY:Etage 1: "In-die-Etage-eins"\, Indie-Party
LOCATION:E-Werk\, Fuchsenwiese 1\, 91054 Erlangen
STATUS:CONFIRMED
END:VEVENT
END:VCALENDAR