BEGIN:VCALENDAR
VERSION:2.0
PRODID:-//Doppelpunkt//Events//DE
CALSCALE:GREGORIAN
METHOD:PUBLISH
BEGIN:VEVENT
UID:event-1365@www.doppelpunkt.de
DTSTAMP:20260420T221618
DTSTART:20260102T200000
DTEND:20260102T200000
SUMMARY:Kinky Minsky & Friends: "Burlesque Cocktail"\, Mixed Burlesque-Show
LOCATION:Theater Rote Bühne\, Vordere Cramergasse 11\, 90478 Nürnberg
STATUS:CONFIRMED
END:VEVENT
END:VCALENDAR