BEGIN:VCALENDAR
VERSION:2.0
PRODID:-//Doppelpunkt//Events//DE
CALSCALE:GREGORIAN
METHOD:PUBLISH
BEGIN:VEVENT
UID:event-1308@www.doppelpunkt.de
DTSTAMP:20260425T165538
DTSTART:20251025T193000
DTEND:20251025T193000
SUMMARY:"Bewohner"\, Figurentheater nach den Aufzeichnungen des Psychiaters Christoph Held
LOCATION:Markgrafentheater\, Theaterplatz 2\, 91054 Erlangen
STATUS:CONFIRMED
END:VEVENT
END:VCALENDAR