BEGIN:VCALENDAR
VERSION:2.0
PRODID:-//Doppelpunkt//Events//DE
CALSCALE:GREGORIAN
METHOD:PUBLISH
BEGIN:VEVENT
UID:event-1307@www.doppelpunkt.de
DTSTAMP:20260425T123930
DTSTART:20251019T193000
DTEND:20251019T193000
SUMMARY:"Klingt gut!"\, musikalisch-literarischer Abend
LOCATION:Markgrafentheater\, Theaterplatz 2\, 91054 Erlangen
STATUS:CONFIRMED
END:VEVENT
END:VCALENDAR