BEGIN:VCALENDAR
VERSION:2.0
PRODID:-//Doppelpunkt//Events//DE
CALSCALE:GREGORIAN
METHOD:PUBLISH
BEGIN:VEVENT
UID:event-1238@www.doppelpunkt.de
DTSTAMP:20260421T145855
DTSTART:20251123T140000
DTEND:20251123T140000
SUMMARY:Projektbereich: Comic Café
LOCATION:Z-Bau\, Frankenstr. 200\, 90461 Nürnberg
STATUS:CONFIRMED
END:VEVENT
END:VCALENDAR