BEGIN:VCALENDAR
VERSION:2.0
PRODID:-//Doppelpunkt//Events//DE
CALSCALE:GREGORIAN
METHOD:PUBLISH
BEGIN:VEVENT
UID:event-1170@www.doppelpunkt.de
DTSTAMP:20260421T111734
DTSTART:20251105T180000
DTEND:20251105T180000
SUMMARY:Führung: "Vom Schlachthof zum Kulturtempel - Backstageführung durch das Kulturforum"
LOCATION:Kulturforum Fürth\, Würzburger Straße 2\, 90762 Fürth
STATUS:CONFIRMED
END:VEVENT
END:VCALENDAR